View In:
ArcGIS JavaScript
ArcGIS Online Map Viewer
ArcGIS Earth
Service Description: Management prescriptions for minimal threshold modelled yield by species used to represent each of the 11 Forestry Management Alternatives. Stored at multidimensional mosaic dataset composed of netCDF files. Dataset was created by Douglas Wardell-Johnson and manipulated by Gianna Gandossi.
Name: wdlexp_netCDFs_2dims_fix
Description: Management prescriptions for minimal threshold modelled yield by species used to represent each of the 11 Forestry Management Alternatives. Stored at multidimensional mosaic dataset composed of netCDF files. Dataset was created by Douglas Wardell-Johnson and manipulated by Gianna Gandossi.
Single Fused Map Cache: false
Extent:
XMin: -925080.2848536368
YMin: 7274333.006390184
XMax: -80330.28485363675
YMax: 8554083.006390184
Spatial Reference: 102100
(3857)
LatestVCSWkid(0)
Initial Extent:
XMin: -925080.2848536368
YMin: 7274333.006390184
XMax: -80330.28485363675
YMax: 8554083.006390184
Spatial Reference: 102100
(3857)
LatestVCSWkid(0)
Full Extent:
XMin: -925080.2848536368
YMin: 7274333.006390184
XMax: -80330.28485363675
YMax: 8554083.006390184
Spatial Reference: 102100
(3857)
LatestVCSWkid(0)
Pixel Size X: 250.0
Pixel Size Y: 250.0
Band Count: 1
Pixel Type: F32
RasterFunction Infos: {"rasterFunctionInfos": [
{
"name": "None",
"description": "A No-Op Function.",
"help": ""
},
{
"name": "NoPeat",
"description": "A raster function template.",
"help": ""
},
{
"name": "Peat",
"description": "A raster function template.",
"help": ""
},
{
"name": "fma2_nonpeat_005",
"description": "A raster function template.",
"help": ""
},
{
"name": "fma2_nonpeat_010",
"description": "A raster function template.",
"help": ""
},
{
"name": "fma2_nonpeat_015",
"description": "A raster function template.",
"help": ""
},
{
"name": "fma2_nonpeat_020",
"description": "A raster function template.",
"help": ""
},
{
"name": "fma2_nonpeat_025",
"description": "A raster function template.",
"help": ""
},
{
"name": "fma2_nonpeat_030",
"description": "A raster function template.",
"help": ""
},
{
"name": "fma2_nonpeat_035",
"description": "A raster function template.",
"help": ""
},
{
"name": "fma2_nonpeat_040",
"description": "A raster function template.",
"help": ""
},
{
"name": "fma2_nonpeat_045",
"description": "A raster function template.",
"help": ""
},
{
"name": "fma2_nonpeat_050",
"description": "A raster function template.",
"help": ""
},
{
"name": "fma2_nonpeat_055",
"description": "A raster function template.",
"help": ""
},
{
"name": "fma2_nonpeat_060",
"description": "A raster function template.",
"help": ""
},
{
"name": "fma2_nonpeat_065",
"description": "A raster function template.",
"help": ""
},
{
"name": "fma2_nonpeat_070",
"description": "A raster function template.",
"help": ""
},
{
"name": "fma2_nonpeat_075",
"description": "A raster function template.",
"help": ""
},
{
"name": "fma2_nonpeat_080",
"description": "A raster function template.",
"help": ""
},
{
"name": "fma2_nonpeat_085",
"description": "A raster function template.",
"help": ""
},
{
"name": "fma2_nonpeat_090",
"description": "A raster function template.",
"help": ""
},
{
"name": "fma2_nonpeat_095",
"description": "A raster function template.",
"help": ""
},
{
"name": "fma2_nonpeat_100",
"description": "A raster function template.",
"help": ""
},
{
"name": "fma2_peat_005",
"description": "A raster function template.",
"help": ""
},
{
"name": "fma2_peat_010",
"description": "A raster function template.",
"help": ""
},
{
"name": "fma2_peat_015",
"description": "A raster function template.",
"help": ""
},
{
"name": "fma2_peat_020",
"description": "A raster function template.",
"help": ""
},
{
"name": "fma2_peat_025",
"description": "A raster function template.",
"help": ""
},
{
"name": "fma2_peat_030",
"description": "A raster function template.",
"help": ""
},
{
"name": "fma2_peat_035",
"description": "A raster function template.",
"help": ""
},
{
"name": "fma2_peat_040",
"description": "A raster function template.",
"help": ""
},
{
"name": "fma2_peat_045",
"description": "A raster function template.",
"help": ""
},
{
"name": "fma2_peat_050",
"description": "A raster function template.",
"help": ""
},
{
"name": "fma2_peat_055",
"description": "A raster function template.",
"help": ""
},
{
"name": "fma2_peat_060",
"description": "A raster function template.",
"help": ""
},
{
"name": "fma2_peat_065",
"description": "A raster function template.",
"help": ""
},
{
"name": "fma2_peat_070",
"description": "A raster function template.",
"help": ""
},
{
"name": "fma2_peat_075",
"description": "A raster function template.",
"help": ""
},
{
"name": "fma2_peat_080",
"description": "A raster function template.",
"help": ""
},
{
"name": "fma2_peat_085",
"description": "A raster function template.",
"help": ""
},
{
"name": "fma2_peat_090",
"description": "A raster function template.",
"help": ""
},
{
"name": "fma2_peat_095",
"description": "A raster function template.",
"help": ""
},
{
"name": "fma2_peat_100",
"description": "A raster function template.",
"help": ""
}
]}
Mensuration Capabilities: None
Inspection Capabilities:
Has Histograms: true
Has Colormap: false
Has Multi Dimensions : true
Rendering Rule:
Min Scale: 0
Max Scale: 0
Resampling: false
Copyright Text: The James Hutton Institute
Service Data Type: esriImageServiceDataTypeScientific
Min Values: -7.525094804936089
Max Values: 0.811064304318279
Mean Values: -0.7023604885977878
Standard Deviation Values: 1.5046583088235195
Object ID Field: OBJECTID
Fields:
-
OBJECTID
(
type: esriFieldTypeOID, alias: OBJECTID
)
-
Shape
(
type: esriFieldTypeGeometry, alias: Shape
)
-
Name
(
type: esriFieldTypeString, alias: Name, length: 200
)
-
MinPS
(
type: esriFieldTypeDouble, alias: MinPS
)
-
MaxPS
(
type: esriFieldTypeDouble, alias: MaxPS
)
-
LowPS
(
type: esriFieldTypeDouble, alias: LowPS
)
-
HighPS
(
type: esriFieldTypeDouble, alias: HighPS
)
-
Category
(
type: esriFieldTypeInteger, alias: Category
, Coded Values:
[0: Unknown]
, [1: Primary]
, [2: Overview]
, ...6 more...
)
-
Tag
(
type: esriFieldTypeString, alias: Tag, length: 100
)
-
GroupName
(
type: esriFieldTypeString, alias: GroupName, length: 100
)
-
ProductName
(
type: esriFieldTypeString, alias: ProductName, length: 100
)
-
CenterX
(
type: esriFieldTypeDouble, alias: CenterX
)
-
CenterY
(
type: esriFieldTypeDouble, alias: CenterY
)
-
ZOrder
(
type: esriFieldTypeInteger, alias: ZOrder
)
-
Variable
(
type: esriFieldTypeString, alias: Variable, length: 50
)
-
Dimensions
(
type: esriFieldTypeString, alias: Dimensions, length: 50
)
-
FMA_num
(
type: esriFieldTypeSmallInteger, alias: FMA_num
)
-
Year
(
type: esriFieldTypeSmallInteger, alias: Year
)
-
Shape_Length
(
type: esriFieldTypeDouble, alias: Shape_Length
)
-
Shape_Area
(
type: esriFieldTypeDouble, alias: Shape_Area
)
Default Mosaic Method: None
Allowed Mosaic Methods: None,NorthWest,Center,LockRaster,ByAttribute,Nadir,Viewpoint,Seamline
SortField: N/A
SortValue: N/A
Mosaic Operator: First
Default Compression Quality: 75
Default Resampling Method: Nearest
Max Record Count: 1000
Max Image Height: 4100
Max Image Width: 15000
Max Download Image Count: 20
Max Mosaic Image Count: 60
Allow Raster Function: true
Allow Copy: true
Allow Analysis: true
Allow Compute TiePoints: false
Supports Statistics: true
Supports Advanced Queries: true
Use StandardizedQueries: true
Raster Type Infos:
Name: WMS
Description: Allows a WMS (Web Map Service) layer to be consumed as a raster dataset.
Help:
Name: Raster Dataset
Description: Supports all ArcGIS Raster Datasets
Help:
Has Raster Attribute Table: false
Edit Fields Info: null
Ownership Based AccessControl For Rasters: null
Child Resources:
Info
Histograms
Statistics
Key Properties
Legend
Raster Function Infos
Multidimensional Info
Slices
Supported Operations:
Export Image
Query
Identify
Compute Histograms
Compute Statistics Histograms
Get Samples
Compute Class Statistics
Query GPS Info
Find Images
Image to Map
Map to Image
Measure from Image
Image to Map Multiray
Query Boundary
Compute Pixel Location
Compute Angles
Validate
Project