{
 "currentVersion": 11.5,
 "serviceDescription": "Management prescriptions for minimal threshold modelled yield by species used to represent each of the 11 Forestry Management Alternatives. Stored at multidimensional mosaic dataset composed of netCDF files. Dataset was created by Douglas Wardell-Johnson and manipulated by Gianna Gandossi.",
 "name": "wdlexp_netCDFs_2dims_fix",
 "description": "Management prescriptions for minimal threshold modelled yield by species used to represent each of the 11 Forestry Management Alternatives. Stored at multidimensional mosaic dataset composed of netCDF files. Dataset was created by Douglas Wardell-Johnson and manipulated by Gianna Gandossi.",
 "extent": {
  "xmin": -925080.2848536368,
  "ymin": 7274333.006390184,
  "xmax": -80330.28485363675,
  "ymax": 8554083.006390184,
  "spatialReference": {
   "wkid": 102100,
   "latestWkid": 3857
  }
 },
 "initialExtent": {
  "xmin": -925080.2848536368,
  "ymin": 7274333.006390184,
  "xmax": -80330.28485363675,
  "ymax": 8554083.006390184,
  "spatialReference": {
   "wkid": 102100,
   "latestWkid": 3857
  }
 },
 "fullExtent": {
  "xmin": -925080.2848536368,
  "ymin": 7274333.006390184,
  "xmax": -80330.28485363675,
  "ymax": 8554083.006390184,
  "spatialReference": {
   "wkid": 102100,
   "latestWkid": 3857
  }
 },
 "sortableFields": "",
 "bandCount": 1,
 "pixelType": "F32",
 "minValues": [
  -7.525094804936089
 ],
 "maxValues": [
  0.811064304318279
 ],
 "meanValues": [
  -0.7023604885977878
 ],
 "stdvValues": [
  1.5046583088235195
 ],
 "serviceProperties": "None<\/MosaicMethod>First<\/MosaicOperator>true<\/SortAscending><\/LockImageID>Name<\/TileOrderField>0<\/TileOrderBase>600.000000<\/AvgImageSpacingX>300.000000<\/AvgImageSpacingY>0.0<\/ViewPointX>0.0<\/ViewPointY>0.0<\/ViewPointDefShiftX>0.0<\/ViewPointDefShiftY>None<\/CompressionMethod>75<\/CompressionQuality>0.010000<\/CompressionTolerance>Nearest<\/SamplingMethod><\/ImageServiceProperties><\/ImageServer>",
 "allowedFields": "Name,MinPS,MaxPS,LowPS,HighPS,Tag,GroupName,ProductName,CenterX,CenterY,ZOrder,Shape_Length,Shape_Area,Variable,Dimensions,FMA_num,Year",
 "hasMultidimensions": true,
 "pixelSizeX": 250,
 "pixelSizeY": 250,
 "meanPixelSize": 250,
 "datasetFormat": "AMD",
 "uncompressedSize": 69188404,
 "blockWidth": 2048,
 "blockHeight": 256,
 "compressionType": "None",
 "bandNames": [
  "Band_1"
 ],
 "allowCopy": true,
 "allowAnalysis": true,
 "itemAccess": false,
 "defaultVariable": "",
 "inspectionCapabilities": "",
 "noDataValue": 0,
 "noDataValues": [
  0
 ],
 "minPixelSize": 0,
 "maxPixelSize": 0,
 "copyrightText": "The James Hutton Institute",
 "serviceDataType": "esriImageServiceDataTypeScientific",
 "serviceSourceType": "esriImageServiceSourceTypeMosaicDataset",
 "objectIdField": "OBJECTID",
 "fields": [
  {
   "name": "OBJECTID",
   "type": "esriFieldTypeOID",
   "alias": "OBJECTID",
   "domain": null
  },
  {
   "name": "Shape",
   "type": "esriFieldTypeGeometry",
   "alias": "Shape",
   "domain": null
  },
  {
   "name": "Name",
   "type": "esriFieldTypeString",
   "alias": "Name",
   "domain": null,
   "length": 200
  },
  {
   "name": "MinPS",
   "type": "esriFieldTypeDouble",
   "alias": "MinPS",
   "domain": null
  },
  {
   "name": "MaxPS",
   "type": "esriFieldTypeDouble",
   "alias": "MaxPS",
   "domain": null
  },
  {
   "name": "LowPS",
   "type": "esriFieldTypeDouble",
   "alias": "LowPS",
   "domain": null
  },
  {
   "name": "HighPS",
   "type": "esriFieldTypeDouble",
   "alias": "HighPS",
   "domain": null
  },
  {
   "name": "Category",
   "type": "esriFieldTypeInteger",
   "alias": "Category",
   "domain": {
    "type": "codedValue",
    "name": "MosaicCatalogItemCategoryDomain",
    "description": "Catalog item categories.",
    "codedValues": [
     {
      "name": "Unknown",
      "code": 0
     },
     {
      "name": "Primary",
      "code": 1
     },
     {
      "name": "Overview",
      "code": 2
     },
     {
      "name": "Unprocessed Overview",
      "code": 3
     },
     {
      "name": "Partial Overview",
      "code": 4
     },
     {
      "name": "Inactive",
      "code": 5
     },
     {
      "name": "Uploaded",
      "code": 253
     },
     {
      "name": "Incomplete",
      "code": 254
     },
     {
      "name": "Custom",
      "code": 255
     }
    ],
    "mergePolicy": "esriMPTDefaultValue",
    "splitPolicy": "esriSPTDefaultValue"
   }
  },
  {
   "name": "Tag",
   "type": "esriFieldTypeString",
   "alias": "Tag",
   "domain": null,
   "length": 100
  },
  {
   "name": "GroupName",
   "type": "esriFieldTypeString",
   "alias": "GroupName",
   "domain": null,
   "length": 100
  },
  {
   "name": "ProductName",
   "type": "esriFieldTypeString",
   "alias": "ProductName",
   "domain": null,
   "length": 100
  },
  {
   "name": "CenterX",
   "type": "esriFieldTypeDouble",
   "alias": "CenterX",
   "domain": null
  },
  {
   "name": "CenterY",
   "type": "esriFieldTypeDouble",
   "alias": "CenterY",
   "domain": null
  },
  {
   "name": "ZOrder",
   "type": "esriFieldTypeInteger",
   "alias": "ZOrder",
   "domain": null
  },
  {
   "name": "Variable",
   "type": "esriFieldTypeString",
   "alias": "Variable",
   "domain": null,
   "length": 50
  },
  {
   "name": "Dimensions",
   "type": "esriFieldTypeString",
   "alias": "Dimensions",
   "domain": null,
   "length": 50
  },
  {
   "name": "FMA_num",
   "type": "esriFieldTypeSmallInteger",
   "alias": "FMA_num",
   "domain": null
  },
  {
   "name": "Year",
   "type": "esriFieldTypeSmallInteger",
   "alias": "Year",
   "domain": null
  },
  {
   "name": "Shape_Length",
   "type": "esriFieldTypeDouble",
   "alias": "Shape_Length",
   "domain": null
  },
  {
   "name": "Shape_Area",
   "type": "esriFieldTypeDouble",
   "alias": "Shape_Area",
   "domain": null
  }
 ],
 "capabilities": "Catalog,Image,Metadata",
 "defaultMosaicMethod": "None",
 "allowedMosaicMethods": "None,NorthWest,Center,LockRaster,ByAttribute,Nadir,Viewpoint,Seamline",
 "mosaicOperator": "First",
 "maxDownloadSizeLimit": 2048,
 "defaultCompressionQuality": 75,
 "defaultResamplingMethod": "Nearest",
 "maxImageHeight": 4100,
 "maxImageWidth": 15000,
 "maxRecordCount": 1000,
 "maxDownloadImageCount": 20,
 "maxMosaicImageCount": 60,
 "allowRasterFunction": true,
 "rasterFunctionInfos": [
  {
   "name": "None",
   "description": "A No-Op Function.",
   "help": ""
  },
  {
   "name": "NoPeat",
   "description": "A raster function template.",
   "help": ""
  },
  {
   "name": "Peat",
   "description": "A raster function template.",
   "help": ""
  },
  {
   "name": "fma2_nonpeat_005",
   "description": "A raster function template.",
   "help": ""
  },
  {
   "name": "fma2_nonpeat_010",
   "description": "A raster function template.",
   "help": ""
  },
  {
   "name": "fma2_nonpeat_015",
   "description": "A raster function template.",
   "help": ""
  },
  {
   "name": "fma2_nonpeat_020",
   "description": "A raster function template.",
   "help": ""
  },
  {
   "name": "fma2_nonpeat_025",
   "description": "A raster function template.",
   "help": ""
  },
  {
   "name": "fma2_nonpeat_030",
   "description": "A raster function template.",
   "help": ""
  },
  {
   "name": "fma2_nonpeat_035",
   "description": "A raster function template.",
   "help": ""
  },
  {
   "name": "fma2_nonpeat_040",
   "description": "A raster function template.",
   "help": ""
  },
  {
   "name": "fma2_nonpeat_045",
   "description": "A raster function template.",
   "help": ""
  },
  {
   "name": "fma2_nonpeat_050",
   "description": "A raster function template.",
   "help": ""
  },
  {
   "name": "fma2_nonpeat_055",
   "description": "A raster function template.",
   "help": ""
  },
  {
   "name": "fma2_nonpeat_060",
   "description": "A raster function template.",
   "help": ""
  },
  {
   "name": "fma2_nonpeat_065",
   "description": "A raster function template.",
   "help": ""
  },
  {
   "name": "fma2_nonpeat_070",
   "description": "A raster function template.",
   "help": ""
  },
  {
   "name": "fma2_nonpeat_075",
   "description": "A raster function template.",
   "help": ""
  },
  {
   "name": "fma2_nonpeat_080",
   "description": "A raster function template.",
   "help": ""
  },
  {
   "name": "fma2_nonpeat_085",
   "description": "A raster function template.",
   "help": ""
  },
  {
   "name": "fma2_nonpeat_090",
   "description": "A raster function template.",
   "help": ""
  },
  {
   "name": "fma2_nonpeat_095",
   "description": "A raster function template.",
   "help": ""
  },
  {
   "name": "fma2_nonpeat_100",
   "description": "A raster function template.",
   "help": ""
  },
  {
   "name": "fma2_peat_005",
   "description": "A raster function template.",
   "help": ""
  },
  {
   "name": "fma2_peat_010",
   "description": "A raster function template.",
   "help": ""
  },
  {
   "name": "fma2_peat_015",
   "description": "A raster function template.",
   "help": ""
  },
  {
   "name": "fma2_peat_020",
   "description": "A raster function template.",
   "help": ""
  },
  {
   "name": "fma2_peat_025",
   "description": "A raster function template.",
   "help": ""
  },
  {
   "name": "fma2_peat_030",
   "description": "A raster function template.",
   "help": ""
  },
  {
   "name": "fma2_peat_035",
   "description": "A raster function template.",
   "help": ""
  },
  {
   "name": "fma2_peat_040",
   "description": "A raster function template.",
   "help": ""
  },
  {
   "name": "fma2_peat_045",
   "description": "A raster function template.",
   "help": ""
  },
  {
   "name": "fma2_peat_050",
   "description": "A raster function template.",
   "help": ""
  },
  {
   "name": "fma2_peat_055",
   "description": "A raster function template.",
   "help": ""
  },
  {
   "name": "fma2_peat_060",
   "description": "A raster function template.",
   "help": ""
  },
  {
   "name": "fma2_peat_065",
   "description": "A raster function template.",
   "help": ""
  },
  {
   "name": "fma2_peat_070",
   "description": "A raster function template.",
   "help": ""
  },
  {
   "name": "fma2_peat_075",
   "description": "A raster function template.",
   "help": ""
  },
  {
   "name": "fma2_peat_080",
   "description": "A raster function template.",
   "help": ""
  },
  {
   "name": "fma2_peat_085",
   "description": "A raster function template.",
   "help": ""
  },
  {
   "name": "fma2_peat_090",
   "description": "A raster function template.",
   "help": ""
  },
  {
   "name": "fma2_peat_095",
   "description": "A raster function template.",
   "help": ""
  },
  {
   "name": "fma2_peat_100",
   "description": "A raster function template.",
   "help": ""
  }
 ],
 "rasterTypeInfos": [
  {
   "name": "WMS",
   "description": "Allows a WMS (Web Map Service) layer to be consumed as a raster dataset.",
   "help": ""
  },
  {
   "name": "Raster Dataset",
   "description": "Supports all ArcGIS Raster Datasets",
   "help": ""
  }
 ],
 "mensurationCapabilities": "None",
 "hasHistograms": true,
 "hasColormap": false,
 "hasRasterAttributeTable": false,
 "minScale": 0,
 "maxScale": 0,
 "exportTilesAllowed": false,
 "supportsStatistics": true,
 "supportsAdvancedQueries": true,
 "editFieldsInfo": null,
 "ownershipBasedAccessControlForRasters": null,
 "allowComputeTiePoints": false,
 "useStandardizedQueries": true,
 "advancedQueryCapabilities": {
  "useStandardizedQueries": true,
  "supportsStatistics": true,
  "supportsOrderBy": true,
  "supportsDistinct": true,
  "supportsPagination": true
 },
 "spatialReference": {
  "wkid": 102100,
  "latestWkid": 3857
 },
 "resampling": false
}
