View In:
ArcGIS JavaScript
ArcGIS Online Map Viewer
ArcGIS Earth
ArcGIS Pro
Service Description: This dataset is the digital (vector) version of the Soils of Scotland 1:250,000 maps, which is a generalised soil map, partly derived from a 1:50,000 map of the soils of Scotland. This dataset is an inventory of the soils of Scotland and was intended for use by planners etc. The soil classification used was updated in 2013 to provide a unified classification across all Soil Survey of Scotland soil maps and profile datasets(UCSS).Version 1.1 of the data includes both the original 1984 and the 2013 soil classification. Version 1.2 of the data included an updated classification table. Version 1.3 of the data include some minor polygon corrections and further revisions to the classification table.
Map Name: Layers
Legend
All Layers and Tables
Layers:
Tables:
Description:
Copyright Text: See metadata
Spatial Reference:
27700
(27700)
LatestVCSWkid(0)
Single Fused Map Cache: true
Tile Info:
- Height: 256.0
- Width: 256.0
- DPI: 96.0
-
Levels of Detail: 19
-
Level ID: 0
[ Start Tile, End Tile ]
- Resolution: 78102.63553682675
- Scale: 2.9519106344627434E8
-
Level ID: 1
[ Start Tile, End Tile ]
- Resolution: 39051.31776841338
- Scale: 1.4759553172313717E8
-
Level ID: 2
[ Start Tile, End Tile ]
- Resolution: 19525.65888420669
- Scale: 7.379776586156859E7
-
Level ID: 3
[ Start Tile, End Tile ]
- Resolution: 9762.829442103344
- Scale: 3.689888293078429E7
-
Level ID: 4
[ Start Tile, End Tile ]
- Resolution: 4881.414721051672
- Scale: 1.8449441465392146E7
-
Level ID: 5
[ Start Tile, End Tile ]
- Resolution: 2440.707360525836
- Scale: 9224720.732696073
-
Level ID: 6
[ Start Tile, End Tile ]
- Resolution: 1220.353680262918
- Scale: 4612360.366348037
-
Level ID: 7
[ Start Tile, End Tile ]
- Resolution: 610.176840131459
- Scale: 2306180.1831740183
-
Level ID: 8
[ Start Tile, End Tile ]
- Resolution: 305.0884200657295
- Scale: 1153090.0915870091
-
Level ID: 9
[ Start Tile, End Tile ]
- Resolution: 152.54421003286475
- Scale: 576545.0457935046
-
Level ID: 10
[ Start Tile, End Tile ]
- Resolution: 76.27210501643238
- Scale: 288272.5228967523
-
Level ID: 11
[ Start Tile, End Tile ]
- Resolution: 38.13605250821619
- Scale: 144136.26144837614
-
Level ID: 12
[ Start Tile, End Tile ]
- Resolution: 19.068026254108094
- Scale: 72068.13072418807
-
Level ID: 13
[ Start Tile, End Tile ]
- Resolution: 9.534013127054047
- Scale: 36034.065362094036
-
Level ID: 14
[ Start Tile, End Tile ]
- Resolution: 4.767006563527024
- Scale: 18017.032681047018
-
Level ID: 15
[ Start Tile, End Tile ]
- Resolution: 2.383503281763512
- Scale: 9008.516340523509
-
Level ID: 16
[ Start Tile, End Tile ]
- Resolution: 1.191751640881756
- Scale: 4504.2581702617545
-
Level ID: 17
[ Start Tile, End Tile ]
- Resolution: 0.595875820440878
- Scale: 2252.1290851308772
-
Level ID: 18
[ Start Tile, End Tile ]
- Resolution: 0.297937910220439
- Scale: 1126.0645425654386
- Format: PNG
- Compression Quality: 0.0
- Origin: X: -9597137.348713825
Y: 4470073.533885086
- Spatial Reference: 27700
(27700)
LatestVCSWkid(0)
Storage Info:
- Storage Format: esriMapCacheStorageModeCompactV2
- Packet Size: 128
Initial Extent:
XMin: -173500.09265149158
YMin: 496344.6068439824
XMax: 768621.363878807
YMax: 1253315.1582364049
Spatial Reference: 27700
(27700)
LatestVCSWkid(0)
Full Extent:
XMin: 54296.32870000228
YMin: 530256.4173000008
XMax: 469825.6982000008
YMax: 1219754.7953000027
Spatial Reference: 27700
(27700)
LatestVCSWkid(0)
Units: esriMeters
Supported Image Format Types: PNG32,PNG24,PNG,JPG,DIB,TIFF,EMF,PS,PDF,GIF,SVG,SVGZ,BMP
Document Info:
Title: Map1
Author:
Comments:
Subject:
Category:
Keywords: soil,Scotland
AntialiasingMode: Fastest
TextAntialiasingMode: None
Supports Dynamic Layers: false
Resampling: false
MaxRecordCount: 1000
MaxSelectionCount: 2000
MaxImageHeight: 2048
MaxImageWidth: 2048
Supported Query Formats: JSON, geoJSON, PBF
Supports Query Data Elements: true
Min Scale: 1.8449441465392146E7
Max Scale: 18017.032681047018
Min LOD: 4
Max LOD: 14
Supports Datum Transformation: true
Child Resources:
Info
Supported Operations:
Export Map
Identify
QueryLegends
QueryDomains
Find
Return Updates