View In:
ArcGIS JavaScript
ArcGIS Online Map Viewer
ArcGIS Earth
ArcMap
ArcGIS Pro
View Footprint In:
ArcGIS Online Map Viewer
Service Description: This map shows the inherent ability of soil to retain phosphorus (P) - the P sorption capacity (PSC).
The classification is based on properties of the soil which relate to the soil association to which it belongs.
A more detailed explanation of how the map was produced, and how it relates to management of P in soil, can be found in SRUC Technical Note TN668 'Managing Soil Phosphorus', by Scotland's Rural College (SRUC) and the James Hutton Institute (JHI), available on the SRUC website (https://www.sruc.ac.uk/downloads/120202/technical_notes).
Map Name: Layers
Legend
All Layers and Tables
Layers:
Description:
Copyright Text: Alex Sinclair (SAC Consulting), Bill Crooks (SRUC), Tony Edwards (SRUC), Malcolm Coull (JHI)
Spatial Reference:
102100
(3857)
Single Fused Map Cache: true
Tile Info:
- Height: 256
- Width: 256
- DPI: 96
-
Levels of Detail: 20
-
Level ID: 0
[ Start Tile, End Tile ]
- Resolution: 156543.03392800014
- Scale: 5.91657527591555E8
-
Level ID: 1
[ Start Tile, End Tile ]
- Resolution: 78271.51696399994
- Scale: 2.95828763795777E8
-
Level ID: 2
[ Start Tile, End Tile ]
- Resolution: 39135.75848200009
- Scale: 1.47914381897889E8
-
Level ID: 3
[ Start Tile, End Tile ]
- Resolution: 19567.87924099992
- Scale: 7.3957190948944E7
-
Level ID: 4
[ Start Tile, End Tile ]
- Resolution: 9783.93962049996
- Scale: 3.6978595474472E7
-
Level ID: 5
[ Start Tile, End Tile ]
- Resolution: 4891.96981024998
- Scale: 1.8489297737236E7
- Format: PNG
- Compression Quality: 0.0
- Origin: X: -2.0037508342787E7
Y: 2.0037508342787E7
- Spatial Reference: 102100
(3857)
Initial Extent:
XMin: -1424719.5389698753
YMin: 7537507.013175271
XMax: 416560.29214528145
YMax: 8610461.437989727
Spatial Reference: 102100
(3857)
Full Extent:
XMin: -928641.3633508042
YMin: 7274804.693585641
XMax: -79802.06460588086
YMax: 8593330.75960489
Spatial Reference: 102100
(3857)
Units: esriMeters
Supported Image Format Types: PNG32,PNG24,PNG,JPG,DIB,TIFF,EMF,PS,PDF,GIF,SVG,SVGZ,BMP
Document Info:
Title:
Author:
Comments: This map shows the inherent ability of soil to retain phosphorus (P) - the P sorption capacity (PSC).
The classification is based on properties of the soil which relate to the soil association to which it belongs.
A more detailed explanation of how the map was produced, and how it relates to management of P in soil, can be found in SRUC Technical Note TN668 'Managing Soil Phosphorus', by Scotlland's Rural College (SRUC) and the James Hutton Institute (JHI), available on the SRUC website (https://www.sruc.ac.uk/downloads/120202/technical_notes).
Subject: Map of soil phosphorus sorption capacity for Scotland.
Category:
Keywords: soil,Scotland,phosphorus,SRUC,SAC Consulting,Hutton
AntialiasingMode: None
TextAntialiasingMode: Force
Supports Dynamic Layers: false
MaxRecordCount: 1000
MaxImageHeight: 4096
MaxImageWidth: 4096
Supported Query Formats: JSON, geoJSON
Supports Query Data Elements:
Min Scale: 1.8489297737236E7
Max Scale: 500
Supports Datum Transformation: true
Child Resources:
Info
Supported Operations:
Export Map
Identify
QueryDomains
QueryLegends
Find
Return Updates