View In:
ArcGIS JavaScript
ArcGIS Online Map Viewer
ArcGIS Earth
ArcMap
View Footprint In:
ArcGIS Online Map Viewer
Service Description: Agmet/Ensemble_13
Name: Agmet/Ensemble_13
Description:
Single Fused Map Cache: false
Extent:
XMin: -500
YMin: 7500
XMax: 656500
YMax: 1218500
Spatial Reference: 27700
(27700)
Initial Extent:
XMin: -500
YMin: 7500
XMax: 656500
YMax: 1218500
Spatial Reference: 27700
(27700)
Full Extent:
XMin: -500
YMin: 7500
XMax: 656500
YMax: 1218500
Spatial Reference: 27700
(27700)
Pixel Size X: 1000.0
Pixel Size Y: 1000.0
Band Count: 1
Pixel Type: F64
RasterFunction Infos: {"rasterFunctionInfos": [
{
"name": "None",
"description": "Make a Raster or Raster Dataset into a Function Raster Dataset.",
"help": ""
},
{
"name": "Band1",
"description": "A raster function template.",
"help": ""
},
{
"name": "accumulatedfrost_degreedays",
"description": "A raster function template.",
"help": ""
},
{
"name": "airfrost_count",
"description": "A raster function template.",
"help": ""
},
{
"name": "end_growingseason",
"description": "A raster function template.",
"help": ""
},
{
"name": "first_airfrost_doy",
"description": "A raster function template.",
"help": ""
},
{
"name": "first_grassfrost_doy",
"description": "A raster function template.",
"help": ""
},
{
"name": "grassfrost_count",
"description": "A raster function template.",
"help": ""
},
{
"name": "growing_degreedays",
"description": "A raster function template.",
"help": ""
},
{
"name": "growing_season",
"description": "A raster function template.",
"help": ""
},
{
"name": "growseason_length",
"description": "A raster function template.",
"help": ""
},
{
"name": "growseason_range",
"description": "A raster function template.",
"help": ""
},
{
"name": "heating_degreedays",
"description": "A raster function template.",
"help": ""
},
{
"name": "heatwave_n",
"description": "A raster function template.",
"help": ""
},
{
"name": "last_airfrost_doy",
"description": "A raster function template.",
"help": ""
},
{
"name": "last_grassfrost_doy",
"description": "A raster function template.",
"help": ""
},
{
"name": "max_anntemp",
"description": "A raster function template.",
"help": ""
},
{
"name": "max_aprtemp",
"description": "A raster function template.",
"help": ""
},
{
"name": "max_augtemp",
"description": "A raster function template.",
"help": ""
},
{
"name": "max_dectemp",
"description": "A raster function template.",
"help": ""
},
{
"name": "max_febtemp",
"description": "A raster function template.",
"help": ""
},
{
"name": "max_jantemp",
"description": "A raster function template.",
"help": ""
},
{
"name": "max_jultemp",
"description": "A raster function template.",
"help": ""
},
{
"name": "max_juntemp",
"description": "A raster function template.",
"help": ""
},
{
"name": "max_martemp",
"description": "A raster function template.",
"help": ""
},
{
"name": "max_maytemp",
"description": "A raster function template.",
"help": ""
},
{
"name": "max_novtemp",
"description": "A raster function template.",
"help": ""
},
{
"name": "max_octtemp",
"description": "A raster function template.",
"help": ""
},
{
"name": "max_septemp",
"description": "A raster function template.",
"help": ""
},
{
"name": "min_anntemp",
"description": "A raster function template.",
"help": ""
},
{
"name": "min_aprtemp",
"description": "A raster function template.",
"help": ""
},
{
"name": "min_augtemp",
"description": "A raster function template.",
"help": ""
},
{
"name": "min_dectemp",
"description": "A raster function template.",
"help": ""
},
{
"name": "min_febtemp",
"description": "A raster function template.",
"help": ""
},
{
"name": "min_jantemp",
"description": "A raster function template.",
"help": ""
},
{
"name": "min_jultemp",
"description": "A raster function template.",
"help": ""
},
{
"name": "min_juntemp",
"description": "A raster function template.",
"help": ""
},
{
"name": "min_martemp",
"description": "A raster function template.",
"help": ""
},
{
"name": "min_maytemp",
"description": "A raster function template.",
"help": ""
},
{
"name": "min_novtemp",
"description": "A raster function template.",
"help": ""
},
{
"name": "min_octtemp",
"description": "A raster function template.",
"help": ""
},
{
"name": "min_septemp",
"description": "A raster function template.",
"help": ""
},
{
"name": "Ov_i02_L01_R00000001_C00000",
"description": "A raster function template.",
"help": ""
},
{
"name": "p_heterogeneity",
"description": "A raster function template.",
"help": ""
},
{
"name": "p_intensity",
"description": "A raster function template.",
"help": ""
},
{
"name": "p_seasonality",
"description": "A raster function template.",
"help": ""
},
{
"name": "personheatstress_count",
"description": "A raster function template.",
"help": ""
},
{
"name": "plantheatstress_count",
"description": "A raster function template.",
"help": ""
},
{
"name": "rfall_annualtotal",
"description": "A raster function template.",
"help": ""
},
{
"name": "rfall_aprtotal",
"description": "A raster function template.",
"help": ""
},
{
"name": "rfall_augtotal",
"description": "A raster function template.",
"help": ""
},
{
"name": "rfall_autumntotal",
"description": "A raster function template.",
"help": ""
},
{
"name": "rfall_dectotal",
"description": "A raster function template.",
"help": ""
},
{
"name": "rfall_febtotal",
"description": "A raster function template.",
"help": ""
},
{
"name": "rfall_jantotal",
"description": "A raster function template.",
"help": ""
},
{
"name": "rfall_jultotal",
"description": "A raster function template.",
"help": ""
},
{
"name": "rfall_juntotal",
"description": "A raster function template.",
"help": ""
},
{
"name": "rfall_martotal",
"description": "A raster function template.",
"help": ""
},
{
"name": "rfall_maytotal",
"description": "A raster function template.",
"help": ""
},
{
"name": "rfall_novtotal",
"description": "A raster function template.",
"help": ""
},
{
"name": "rfall_octtotal",
"description": "A raster function template.",
"help": ""
},
{
"name": "rfall_septotal",
"description": "A raster function template.",
"help": ""
},
{
"name": "rfall_springtotal",
"description": "A raster function template.",
"help": ""
},
{
"name": "rfall_summertotal",
"description": "A raster function template.",
"help": ""
},
{
"name": "rfall_wintertotal",
"description": "A raster function template.",
"help": ""
},
{
"name": "start_fieldops_doy",
"description": "A raster function template.",
"help": ""
},
{
"name": "start_grow_doy",
"description": "A raster function template.",
"help": ""
},
{
"name": "tempgrowingperiod_length",
"description": "A raster function template.",
"help": ""
},
{
"name": "thermaltime_sum",
"description": "A raster function template.",
"help": ""
},
{
"name": "wet_count",
"description": "A raster function template.",
"help": ""
},
{
"name": "wet_spell_n",
"description": "A raster function template.",
"help": ""
},
{
"name": "wettestweek_doy",
"description": "A raster function template.",
"help": ""
},
{
"name": "wettestweek_mm",
"description": "A raster function template.",
"help": ""
}
]}
Mensuration Capabilities: None
Has Histograms: true
Has Colormap: false
Has Multi Dimensions : true
Rendering Rule:
Min Scale: 0
Max Scale: 0
Copyright Text:
Service Data Type: esriImageServiceDataTypeScientific
Min Values: -27.0453125
Max Values: 6570.26939969412
Mean Values: 203.40329152440444
Standard Deviation Values: 549.8490482168282
Object ID Field: OBJECTID
Fields:
-
OBJECTID
(
type: esriFieldTypeOID, alias: OBJECTID
)
-
Shape
(
type: esriFieldTypeGeometry, alias: Shape
)
-
Name
(
type: esriFieldTypeString, alias: Name, length: 200
)
-
MinPS
(
type: esriFieldTypeDouble, alias: MinPS
)
-
MaxPS
(
type: esriFieldTypeDouble, alias: MaxPS
)
-
LowPS
(
type: esriFieldTypeDouble, alias: LowPS
)
-
HighPS
(
type: esriFieldTypeDouble, alias: HighPS
)
-
Category
(
type: esriFieldTypeInteger, alias: Category
, Coded Values:
[0: Unknown]
, [1: Primary]
, [2: Overview]
, ...6 more...
)
-
Tag
(
type: esriFieldTypeString, alias: Tag, length: 100
)
-
GroupName
(
type: esriFieldTypeString, alias: GroupName, length: 100
)
-
ProductName
(
type: esriFieldTypeString, alias: ProductName, length: 100
)
-
CenterX
(
type: esriFieldTypeDouble, alias: CenterX
)
-
CenterY
(
type: esriFieldTypeDouble, alias: CenterY
)
-
ZOrder
(
type: esriFieldTypeInteger, alias: ZOrder
)
-
Variable
(
type: esriFieldTypeString, alias: Variable, length: 50
)
-
Dimensions
(
type: esriFieldTypeString, alias: Dimensions, length: 50
)
-
Year
(
type: esriFieldTypeSmallInteger, alias: Year
)
-
Shape_Length
(
type: esriFieldTypeDouble, alias: Shape_Length
)
-
Shape_Area
(
type: esriFieldTypeDouble, alias: Shape_Area
)
Default Mosaic Method: None
Allowed Mosaic Methods: None,NorthWest,Center,LockRaster,ByAttribute,Nadir,Viewpoint,Seamline
SortField: N/A
SortValue: N/A
Mosaic Operator: First
Default Compression Quality: 75
Default Resampling Method: Bilinear
Max Record Count: 1000
Max Image Height: 4100
Max Image Width: 15000
Max Download Image Count: 20
Max Mosaic Image Count: 20
Allow Raster Function: true
Allow Copy: true
Allow Analysis: true
Allow Compute TiePoints: false
Supports Statistics: true
Supports Advanced Queries: true
Use StandardizedQueries: true
Raster Type Infos:
Name: Raster Dataset
Description: Supports all ArcGIS Raster Datasets
Help:
Has Raster Attribute Table: false
Edit Fields Info: null
Ownership Based AccessControl For Rasters: null
Child Resources:
Info
Histograms
Statistics
Key Properties
Legend
Raster Function Infos
Multidimensional Info
Slices
Supported Operations:
Export Image
Query
Identify
Compute Histograms
Compute Statistics Histograms
Get Samples
Compute Class Statistics
Query Boundary
Compute Pixel Location
Validate
Project