{
 "currentVersion": 10.81,
 "serviceDescription": "This is the digital dataset which was created by digitising the Soils of Scotland 1:25,000 Soil maps and the Soils of Scotland 1:25,000 Dyeline Masters. The Soils of Scotland 1:25,000 Soil maps were the source documents for the production of the Soils of Scotland 1:63,360 and 1:50,000 published colour map series. The soil map units are based on Soil Associations, Soil Series and Phases which reflect parent material, major soil group, and major soil sub-groups, drainage and (for phases), texture, stoniness, land use, rockiness, topography and organic matter. Phases are not always mapped. In general terms this dataset primarily covers the cultivated land of Scotland but also includes some adjacent upland areas and the Island of Mull and the Ardnamurchan peninsula. While all of the available source documents for this map series have been digitised, additional areas mapped at higher resolution for specific purposes have not been digitised.\nThis data set is the final iteration of a phased revision. This data is Version 10. It supercedes previous phases and versions and it is being released on 27th July 2022.\nThe digitising of the recently added data was funded by the Rural & Environment Science & Analytical Services Division of the Scottish Government.",
 "mapName": "Layers",
 "description": "",
 "copyrightText": "Soil Survey of Scotland Staff (1970-1987). Soil maps of Scotland (partial coverage). Digital version 10 release. James Hutton Institute, Aberdeen. DOI 10.5281/zenodo. 6908156.",
 "supportsDynamicLayers": false,
 "layers": [
  {
   "id": 0,
   "name": "Soil map of Scotland (partial cover): Generalised Soil Type",
   "parentLayerId": -1,
   "defaultVisibility": true,
   "subLayerIds": null,
   "minScale": 0,
   "maxScale": 0,
   "type": "Feature Layer",
   "geometryType": "esriGeometryPolygon"
  }
 ],
 "tables": [],
 "spatialReference": {
  "wkid": 102100,
  "latestWkid": 3857
 },
 "singleFusedMapCache": true,
 "tileInfo": {
  "rows": 256,
  "cols": 256,
  "dpi": 96,
  "format": "PNG",
  "compressionQuality": 0,
  "origin": {
   "x": -2.0037508342787E7,
   "y": 2.0037508342787E7
  },
  "spatialReference": {
   "wkid": 102100,
   "latestWkid": 3857
  },
  "lods": [
   {
    "level": 0,
    "resolution": 156543.03392800014,
    "scale": 5.91657527591555E8
   },
   {
    "level": 1,
    "resolution": 78271.51696399994,
    "scale": 2.95828763795777E8
   },
   {
    "level": 2,
    "resolution": 39135.75848200009,
    "scale": 1.47914381897889E8
   },
   {
    "level": 3,
    "resolution": 19567.87924099992,
    "scale": 7.3957190948944E7
   },
   {
    "level": 4,
    "resolution": 9783.93962049996,
    "scale": 3.6978595474472E7
   },
   {
    "level": 5,
    "resolution": 4891.96981024998,
    "scale": 1.8489297737236E7
   },
   {
    "level": 6,
    "resolution": 2445.98490512499,
    "scale": 9244648.868618
   },
   {
    "level": 7,
    "resolution": 1222.992452562495,
    "scale": 4622324.434309
   },
   {
    "level": 8,
    "resolution": 611.4962262813797,
    "scale": 2311162.217155
   },
   {
    "level": 9,
    "resolution": 305.74811314055756,
    "scale": 1155581.108577
   },
   {
    "level": 10,
    "resolution": 152.87405657041106,
    "scale": 577790.554289
   },
   {
    "level": 11,
    "resolution": 76.43702828507324,
    "scale": 288895.277144
   },
   {
    "level": 12,
    "resolution": 38.21851414253662,
    "scale": 144447.638572
   },
   {
    "level": 13,
    "resolution": 19.10925707126831,
    "scale": 72223.819286
   },
   {
    "level": 14,
    "resolution": 9.554628535634155,
    "scale": 36111.909643
   },
   {
    "level": 15,
    "resolution": 4.77731426794937,
    "scale": 18055.954822
   },
   {
    "level": 16,
    "resolution": 2.388657133974685,
    "scale": 9027.977411
   },
   {
    "level": 17,
    "resolution": 1.1943285668550503,
    "scale": 4513.988705
   },
   {
    "level": 18,
    "resolution": 0.5971642835598172,
    "scale": 2256.994353
   },
   {
    "level": 19,
    "resolution": 0.29858214164761665,
    "scale": 1128.497176
   }
  ]
 },
 "initialExtent": {
  "xmin": -967419.8214326614,
  "ymin": 7503712.819652645,
  "xmax": 386592.5316589548,
  "ymax": 8294199.181146851,
  "spatialReference": {
   "cs": "pcs",
   "wkid": 102100
  }
 },
 "fullExtent": {
  "xmin": -763147.202113271,
  "ymin": 7282993.217506202,
  "xmax": -195295.86877684895,
  "ymax": 8265866.877845511,
  "spatialReference": {
   "cs": "pcs",
   "wkid": 102100
  }
 },
 "minScale": 9244648.868618,
 "maxScale": 4513.988705,
 "minLOD": 4,
 "maxLOD": 17,
 "units": "esriMeters",
 "supportedImageFormatTypes": "PNG32,PNG24,PNG,JPG,DIB,TIFF,EMF,PS,PDF,GIF,SVG,SVGZ,BMP",
 "documentInfo": {
  "Title": "",
  "Author": "",
  "Comments": "This is the digital dataset which was created by digitising the Soils of Scotland 1:25,000 Soil maps and the Soils of Scotland 1:25,000 Dyeline Masters. The Soils of Scotland 1:25,000 Soil maps were the source documents for the production of the the Soils of Scotland 1:63,360 and 1:50,000 published map series. The classification is based on Soil Associations, Soil Series and Phases which reflect parent material, major soil group, and soil sub-groups, drainage and (for phases), texture, stoniness, land use, rockiness, topography and organic matter. Phases are not always mapped. In general terms this dataset initially covered the arable areas of Scotland, but progressively more of the upland areas are being added. Not all of the available source documents have been digitised. Attribute definitions: The attributes on each map (coverage) are specific to that map sheet, but in general terms the following categories are mapped: soil association, soil series, parent material, soil complexes, soil phases, skeletal soils, alluvial soils, organic soils, miscellaneous soils, mixed bottom land, built-up area, quarries/disturbed ground, collieries/bings, golf courses.This data set is undergoing a phased revision.\n\nIn Phase 6 (April 2019) a substantial additional area of soils mapping in the north (1,637 km2) and south (1,682 km2) of Scotland was added to the dataset. In the southern area (corresponding to sheets NY48/49/58/59) as no large scale published soils maps have been created, the soils data relating to these maps was collected largely at a reconnaissance level for the 1:250,000 scale soil survey and was enhanced by interpretation of aerial photograph imagery.\n\nPhase Seven included data for the Orkney Islands and it was released on 3rd September 2020.\n\nThis version of the data is Phase Eight and the data is Version 9. Phase Eight includes data for the county of Caithness and part of Sutherland. Phase Eight supersedes previous phases and it is being released on 4th August 2021.\n\nThe digitising of the recently added data was funded by the Rural & Environment Science & Analytical Services Division of the Scottish Government.",
  "Subject": "This is the large scale Soils of Scotland and it covers the main cultivated areas of Scotland.",
  "Category": "",
  "AntialiasingMode": "Normal",
  "TextAntialiasingMode": "Force",
  "Keywords": "soil,Scotland"
 },
 "capabilities": "Map,Query,Data",
 "supportedQueryFormats": "JSON, geoJSON",
 "exportTilesAllowed": false,
 "referenceScale": 0,
 "datumTransformations": [
  {
   "geoTransforms": [
    {
     "wkid": 8246,
     "latestWkid": 1314,
     "transformForward": true,
     "name": "OSGB_1936_To_WGS_1984_Petroleum"
    }
   ]
  },
  {
   "geoTransforms": [
    {
     "wkid": 8246,
     "latestWkid": 1314,
     "transformForward": false,
     "name": "OSGB_1936_To_WGS_1984_Petroleum"
    }
   ]
  }
 ],
 "supportsDatumTransformation": true,
 "maxRecordCount": 1000,
 "maxImageHeight": 4096,
 "maxImageWidth": 4096,
 "supportedExtensions": "WMSServer"
}
