{
 "currentVersion": 10.81,
 "cimVersion": "2.6.0",
 "serviceDescription": "This dataset is the digital (vector) version of the Soils of Scotland 1:250,000 maps, which is a generalised soil map, partly derived from a 1:50,000 map of the soils of Scotland. This dataset is an inventory of the soils of Scotland and was intended for use by planners etc. The soil classification used was updated in 2013 to provide a unified classification across all Soil Survey of Scotland soil maps and profile datasets(UCSS).Version 1.1 of the data includes both the original 1984 and the 2013 soil classification. Version 1.2 of the data included an updated classification table. Version 1.3 of the data include some minor polygon corrections and further revisions to the classification table. This service includes the 2025 Scottish Soils Knowledge Base (SSKIB).",
 "mapName": "Hutton_Soils_250K_SSKIB",
 "description": "",
 "copyrightText": "",
 "supportsDynamicLayers": true,
 "layers": [
  {
   "id": 0,
   "name": "National Soil Map of Scotland: Generalised Soil Type",
   "parentLayerId": -1,
   "defaultVisibility": true,
   "subLayerIds": null,
   "minScale": 0,
   "maxScale": 800001,
   "type": "Feature Layer",
   "geometryType": "esriGeometryPolygon",
   "supportsDynamicLegends": true
  },
  {
   "id": 1,
   "name": "National Soil Map of Scotland: Generalised Soil Type ",
   "parentLayerId": -1,
   "defaultVisibility": true,
   "subLayerIds": null,
   "minScale": 800000,
   "maxScale": 0,
   "type": "Feature Layer",
   "geometryType": "esriGeometryPolygon",
   "supportsDynamicLegends": true
  }
 ],
 "tables": [
  {
   "id": 2,
   "name": "Soil_map_unit_proportions",
   "type": "Table"
  },
  {
   "id": 3,
   "name": "SSKIB_2025_SS",
   "type": "Table"
  }
 ],
 "spatialReference": {
  "wkid": 27700,
  "latestWkid": 27700,
  "xyTolerance": 0.001,
  "zTolerance": 0.001,
  "mTolerance": 0.001,
  "falseX": -5220400,
  "falseY": -15524400,
  "xyUnits": 10000,
  "falseZ": -100000,
  "zUnits": 10000,
  "falseM": -100000,
  "mUnits": 10000
 },
 "singleFusedMapCache": true,
 "tileInfo": {
  "rows": 256,
  "cols": 256,
  "dpi": 96,
  "format": "PNG",
  "compressionQuality": 0,
  "origin": {
   "x": -9597137.348713825,
   "y": 4470073.533885086
  },
  "spatialReference": {
   "wkid": 27700,
   "latestWkid": 27700,
   "xyTolerance": 0.001,
   "zTolerance": 0.001,
   "mTolerance": 0.001,
   "falseX": -5220400,
   "falseY": -15524400,
   "xyUnits": 10000,
   "falseZ": -100000,
   "zUnits": 10000,
   "falseM": -100000,
   "mUnits": 10000
  },
  "lods": [
   {
    "level": 0,
    "resolution": 78102.63553682675,
    "scale": 2.9519106344627434E8
   },
   {
    "level": 1,
    "resolution": 39051.31776841338,
    "scale": 1.4759553172313717E8
   },
   {
    "level": 2,
    "resolution": 19525.65888420669,
    "scale": 7.379776586156859E7
   },
   {
    "level": 3,
    "resolution": 9762.829442103344,
    "scale": 3.689888293078429E7
   },
   {
    "level": 4,
    "resolution": 4881.414721051672,
    "scale": 1.8449441465392146E7
   },
   {
    "level": 5,
    "resolution": 2440.707360525836,
    "scale": 9224720.732696073
   },
   {
    "level": 6,
    "resolution": 1220.353680262918,
    "scale": 4612360.366348037
   },
   {
    "level": 7,
    "resolution": 610.176840131459,
    "scale": 2306180.1831740183
   },
   {
    "level": 8,
    "resolution": 305.0884200657295,
    "scale": 1153090.0915870091
   },
   {
    "level": 9,
    "resolution": 152.54421003286475,
    "scale": 576545.0457935046
   },
   {
    "level": 10,
    "resolution": 76.27210501643238,
    "scale": 288272.5228967523
   },
   {
    "level": 11,
    "resolution": 38.13605250821619,
    "scale": 144136.26144837614
   },
   {
    "level": 12,
    "resolution": 19.068026254108094,
    "scale": 72068.13072418807
   },
   {
    "level": 13,
    "resolution": 9.534013127054047,
    "scale": 36034.065362094036
   },
   {
    "level": 14,
    "resolution": 4.767006563527024,
    "scale": 18017.032681047018
   },
   {
    "level": 15,
    "resolution": 2.383503281763512,
    "scale": 9008.516340523509
   },
   {
    "level": 16,
    "resolution": 1.191751640881756,
    "scale": 4504.2581702617545
   },
   {
    "level": 17,
    "resolution": 0.595875820440878,
    "scale": 2252.1290851308772
   },
   {
    "level": 18,
    "resolution": 0.297937910220439,
    "scale": 1126.0645425654386
   }
  ]
 },
 "initialExtent": {
  "xmin": -230666.43109333538,
  "ymin": 497557.3882913753,
  "xmax": 706242.7452199691,
  "ymax": 1250340.0055246493,
  "spatialReference": {
   "wkid": 27700,
   "latestWkid": 27700,
   "xyTolerance": 0.001,
   "zTolerance": 0.001,
   "mTolerance": 0.001,
   "falseX": -5220400,
   "falseY": -15524400,
   "xyUnits": 10000,
   "falseZ": -100000,
   "zUnits": 10000,
   "falseM": -100000,
   "mUnits": 10000
  }
 },
 "fullExtent": {
  "xmin": 54296.32870000228,
  "ymin": 530256.4173000008,
  "xmax": 469825.6982000008,
  "ymax": 1219754.7953000027,
  "spatialReference": {
   "wkid": 27700,
   "latestWkid": 27700,
   "xyTolerance": 0.001,
   "zTolerance": 0.001,
   "mTolerance": 0.001,
   "falseX": -5220400,
   "falseY": -15524400,
   "xyUnits": 10000,
   "falseZ": -100000,
   "zUnits": 10000,
   "falseM": -100000,
   "mUnits": 10000
  }
 },
 "minScale": 1.8449441465392146E7,
 "maxScale": 9008.516340523509,
 "units": "esriMeters",
 "supportedImageFormatTypes": "PNG32,PNG24,PNG,JPG,DIB,TIFF,EMF,PS,PDF,GIF,SVG,SVGZ,BMP",
 "documentInfo": {
  "Title": "Map1",
  "Author": "",
  "Comments": "",
  "Subject": "",
  "Category": "",
  "AntialiasingMode": "Fast",
  "TextAntialiasingMode": "Force",
  "Keywords": "soils,Scotland,Hutton"
 },
 "supportsQueryDomains": true,
 "capabilities": "Query,Map,Data",
 "supportedQueryFormats": "JSON, geoJSON, PBF",
 "exportTilesAllowed": false,
 "referenceScale": 0.0,
 "datumTransformations": [
  {
   "geoTransforms": [
    {
     "wkid": 108058,
     "latestWkid": 108058,
     "transformForward": true,
     "name": "WGS_1984_To_OSGB_1936_OSTN15"
    }
   ]
  },
  {
   "geoTransforms": [
    {
     "wkid": 108058,
     "latestWkid": 108058,
     "transformForward": false,
     "name": "WGS_1984_To_OSGB_1936_OSTN15"
    }
   ]
  }
 ],
 "supportsDatumTransformation": true,
 "archivingInfo": {
  "supportsHistoricMoment": false
 },
 "supportsClipping": true,
 "supportsSpatialFilter": true,
 "supportsQueryDataElements": true,
 "maxRecordCount": 2000,
 "maxImageHeight": 4096,
 "maxImageWidth": 4096,
 "supportedExtensions": "WMSServer"
}
