{
 "currentVersion": 10.81,
 "serviceDescription": "Methodology\n1. Data on the individual soil profiles held within the Scottish Soils Database were used to determine the texture of each soil series shown on the 1:25 000 scale maps that delineate the NVZs. \n2. The measured particle size data for each soil horizon (layer) was classified to a depth of 80 cm into a soil texture type based on the British Standard Texture Classes and assigned to one of the five categories (shallow soils - SS, sands - S, sandy loams - SL, other mineral soils - OMS, humose soils - HS, peaty soils - PS.\n3. The digitial soils data were categorised according to these classes using expert knowledge to interpret the 1:25 000 soil series maps.\n4. Where a soil series could not be allocated to one of these classes, for example, where soil textures changed abruptly with depth or where there were a significant proportion of the soil profiles examined had a different soil texture class, they were allocated to a hybrid class.\n",
 "mapName": "Soil Texture",
 "description": "",
 "copyrightText": "Please refer to metadata",
 "supportsDynamicLayers": false,
 "layers": [
  {
   "id": 0,
   "name": "Map of soil texture in nitrate vulnerable zones",
   "parentLayerId": -1,
   "defaultVisibility": true,
   "subLayerIds": null,
   "minScale": 0,
   "maxScale": 0,
   "type": "Feature Layer",
   "geometryType": "esriGeometryPolygon"
  }
 ],
 "tables": [],
 "spatialReference": {
  "wkid": 102100,
  "latestWkid": 3857
 },
 "singleFusedMapCache": true,
 "tileInfo": {
  "rows": 256,
  "cols": 256,
  "dpi": 96,
  "format": "PNG32",
  "compressionQuality": 0,
  "origin": {
   "x": -2.0037508342787E7,
   "y": 2.0037508342787E7
  },
  "spatialReference": {
   "wkid": 102100,
   "latestWkid": 3857
  },
  "lods": [
   {
    "level": 0,
    "resolution": 156543.03392800014,
    "scale": 5.91657527591555E8
   },
   {
    "level": 1,
    "resolution": 78271.51696399994,
    "scale": 2.95828763795777E8
   },
   {
    "level": 2,
    "resolution": 39135.75848200009,
    "scale": 1.47914381897889E8
   },
   {
    "level": 3,
    "resolution": 19567.87924099992,
    "scale": 7.3957190948944E7
   },
   {
    "level": 4,
    "resolution": 9783.93962049996,
    "scale": 3.6978595474472E7
   },
   {
    "level": 5,
    "resolution": 4891.96981024998,
    "scale": 1.8489297737236E7
   },
   {
    "level": 6,
    "resolution": 2445.98490512499,
    "scale": 9244648.868618
   },
   {
    "level": 7,
    "resolution": 1222.992452562495,
    "scale": 4622324.434309
   },
   {
    "level": 8,
    "resolution": 611.4962262813797,
    "scale": 2311162.217155
   },
   {
    "level": 9,
    "resolution": 305.74811314055756,
    "scale": 1155581.108577
   },
   {
    "level": 10,
    "resolution": 152.87405657041106,
    "scale": 577790.554289
   },
   {
    "level": 11,
    "resolution": 76.43702828507324,
    "scale": 288895.277144
   },
   {
    "level": 12,
    "resolution": 38.21851414253662,
    "scale": 144447.638572
   },
   {
    "level": 13,
    "resolution": 19.10925707126831,
    "scale": 72223.819286
   },
   {
    "level": 14,
    "resolution": 9.554628535634155,
    "scale": 36111.909643
   },
   {
    "level": 15,
    "resolution": 4.77731426794937,
    "scale": 18055.954822
   },
   {
    "level": 16,
    "resolution": 2.388657133974685,
    "scale": 9027.977411
   },
   {
    "level": 17,
    "resolution": 1.1943285668550503,
    "scale": 4513.988705
   },
   {
    "level": 18,
    "resolution": 0.5971642835598172,
    "scale": 2256.994353
   },
   {
    "level": 19,
    "resolution": 0.29858214164761665,
    "scale": 1128.497176
   }
  ]
 },
 "initialExtent": {
  "xmin": -806736.2796754434,
  "ymin": 7470727.250377508,
  "xmax": 17552.54558810133,
  "ymax": 7945974.7865724815,
  "spatialReference": {
   "cs": "pcs",
   "wkid": 102100
  }
 },
 "fullExtent": {
  "xmin": -591992.6579465511,
  "ymin": 7325951.356980289,
  "xmax": -196561.05943700255,
  "ymax": 7911239.516509942,
  "spatialReference": {
   "cs": "pcs",
   "wkid": 102100
  }
 },
 "minScale": 3.6978595474472E7,
 "maxScale": 9027.977411,
 "units": "esriMeters",
 "supportedImageFormatTypes": "PNG32,PNG24,PNG,JPG,DIB,TIFF,EMF,PS,PDF,GIF,SVG,SVGZ,BMP",
 "documentInfo": {
  "Title": "Soils_250K_repairs_01",
  "Author": "dd40096",
  "Comments": "Methodology\n1. Data on the individual soil profiles held within the Scottish Soils Database were used to determine the texture of each soil series shown on the 1:25 000 scale maps that delineate the NVZs. \n2. The measured particle size data for each soil horizon (layer) was classified to a depth of 80 cm into a soil texture type based on the British Standard Texture Classes and assigned to one of the five categories (shallow soils - SS, sands - S, sandy loams - SL, other mineral soils - OMS, humose soils - HS, peaty soils - PS.\n3. The digitial soils data were categorised according to these classes using expert knowledge to interpret the 1:25 000 soil series maps.\n4. Where a soil series could not be allocated to one of these classes, for example, where soil textures changed abruptly with depth or where there were a significant proportion of the soil profiles examined had a different soil texture class, they were allocated to a hybrid class.\n\nSoil Texture Assessment\n1. Does the moist soil feel or sound gritty? No -> 5, Yes -> 2\n2. Is the soil cohesive? No -> Sand, Yes -> 3\n3. Can the soil be rolled into a ball? No -> Loamy sand, Yes -> 4\n4. Does the soil feel smooth and silky as well as gritty? No -> Sandy loam, Yes -> Sandy silt loam\n5. Does the soil mould to form an easily deformed ball and feel smooth and silky? No -> 6, Yes -> Silt loam\n6. Does the soil mould to form a strong ball that smears but does not take a polish? No -> 9, Yes -> 7\n7. Is the soil also rough and gritty? No -> 8, Yes -> Sandy clay loam\n8. Is the soil also smooth and silky? No -> Clay loam!, Yes -> Silty clay loam\n9. Does the soil mould like plasticine, polish and feel very sticky when wetter? No -> Start again!, Yes -> 10\n10. Is the soil also rough and gritty? No -> 11, Yes -> Sandy clay\n11. Is the soil also smooth and buttery No - > Clay, Yes -> Silty clay",
  "Subject": "Soil texture based on Hutton 1:25,000 Soils Data. Updated in July 2016 to cover Nitrate Vulnerable Zones as revised in 2015/16.",
  "Category": "",
  "AntialiasingMode": "Normal",
  "TextAntialiasingMode": "Force",
  "Keywords": "NVZ,texture"
 },
 "capabilities": "Map,Query,Data",
 "supportedQueryFormats": "JSON, geoJSON",
 "exportTilesAllowed": false,
 "referenceScale": 0,
 "datumTransformations": [
  {
   "geoTransforms": [
    {
     "wkid": 8246,
     "latestWkid": 1314,
     "transformForward": true,
     "name": "OSGB_1936_To_WGS_1984_Petroleum"
    }
   ]
  },
  {
   "geoTransforms": [
    {
     "wkid": 8246,
     "latestWkid": 1314,
     "transformForward": false,
     "name": "OSGB_1936_To_WGS_1984_Petroleum"
    }
   ]
  }
 ],
 "supportsDatumTransformation": true,
 "maxRecordCount": 1000,
 "maxImageHeight": 4096,
 "maxImageWidth": 4096,
 "supportedExtensions": "WMSServer"
}
