{
 "currentVersion": 10.81,
 "serviceDescription": "The classification of land for agricultural purposes in Scotland is, in the general sense, as old as farming itself but the first national surveys were the Land Utilisation Survey directed by Sir Dudley Stamp during the late thirties and the classification of arable land carried out by the staff of the Department of Agriculture and Fisheries for Scotland in the forties. Both, however, were based largely on observation of the land use then current. In the mid-sixties interpretations of soil survey maps, laying more stress on the properties of land and its potential for agriculture, were developed at the Macaulay Institute for Soil Research, Aberdeen. A standard system of Land Use Capability Classification, applied by the Soil Surveys of Scotland, and of England and Wales was published in 1969 (Bibby and Mackney).\nIn 1973 following a recommendation in the White Paper 'Land Resource Use in Scotland: The Government's Observations on the Report of the Select Committee on Scottish Affairs', a Standing Committee on Rural Land Use was established. One of the first subjects considered by the Committee was land use capability classification and the decision was reached that a published land classification was desirable and that a review should be carried out to establish the one most suitable to Scottish requirements. The Chief Agricultural Officer of the Department of Agriculture and Fisheries, Mr C. Mackay, was\nappointed chairman of a working party and in subsequent reports (1975 and 1977) it was concluded that the future direction of land classification and mapping in Scotland should be based on the system developed by the Macaulay Institute with some modifications and additions. The reports, which were accepted by the Standing Committee, encouraged continued co-operation with England and Wales through the Agricultural Development and Advisory Service Closed Conference of Advisory Soil Scientists Land Capability Classification Working Party. This had been established in 1974 and included representatives of the Department and Colleges of Agriculture in Scotland and the Macaulay Institute.\nFrom 1974 to 1981 the discussions of this committee were of the utmost value in developing the rationale and guidelines for land classification now presented. Under the able chairmanship of Mr B. Wilkinson, the following members contributed: J. S. Bibby, J. C. Clark, H. A. Douglas, P. E. Francis, G. Goodlass, D. Hewgill, F. M. B. Houston, A. D. Hughes, D. Mackney, M. J. Silverwood. R. B. Speirs, R. W. Swain, J. F. B. Tew, A. J. Thomasson and R. J. Unwin. Organisations represented included the Agricultural Science and Land and Water Services of the Ministry of Agriculture, the Department of Agriculture for Scotland, the Scottish Colleges of Agriculture, the Meteorological Office (Agrometeorological Branch) and the Soil Surveys of Scotland, and of England and Wales.\nThe scientific discussions held within the Working Party plus the field excursions in Scotland, England and Wales in order to study the practical application of the system in various land classification exercises contributed significantly to the system's development and final refined version.\nIn 1980 with progress on a 1:250 000 scale, soil and land capability programme well forward in Scotland, it became necessary to produce firm proposals to allow the work to proceed. The land classification for agriculture now presented owes much to the original United States Department of Agriculture Land Capability Classification (Klingebiel and Montgomery 1961), to the Land Use Capability Classification (Bibby and Mackney 1969) and to the Survey staff who have helped to improve that classification, to the various working parties and, finally, to individual discussions, contributions from Mr E. L. Birse of the Macaulay Institute being particularly helpful. The assistance of such a wide range of authorities and people is gratefully acknowledged. Nevertheless, the responsibility for errors, omissions and short-comings rest entirely with the authors.\nThe Land Capability Classification for Agriculture incorporates significant advances in methods of assessment and is the basis of the interpretative maps produced by the Soil Survey Department of the Macaulay Institute for Soil Research, Aberdeen.\nOwnership of this data set was passed to the James Hutton Institute on 1st April 2011. ",
 "mapName": "Layers",
 "description": "",
 "copyrightText": "Please refer to metadata",
 "supportsDynamicLayers": false,
 "layers": [
  {
   "id": 0,
   "name": "Land capability for agriculture (partial cover)",
   "parentLayerId": -1,
   "defaultVisibility": true,
   "subLayerIds": null,
   "minScale": 0,
   "maxScale": 0,
   "type": "Feature Layer",
   "geometryType": "esriGeometryPolygon"
  }
 ],
 "tables": [],
 "spatialReference": {
  "wkid": 102100,
  "latestWkid": 3857
 },
 "singleFusedMapCache": true,
 "tileInfo": {
  "rows": 256,
  "cols": 256,
  "dpi": 96,
  "format": "PNG",
  "compressionQuality": 0,
  "origin": {
   "x": -2.0037508342787E7,
   "y": 2.0037508342787E7
  },
  "spatialReference": {
   "wkid": 102100,
   "latestWkid": 3857
  },
  "lods": [
   {
    "level": 0,
    "resolution": 156543.033928,
    "scale": 5.91657527591555E8
   },
   {
    "level": 1,
    "resolution": 78271.5169639999,
    "scale": 2.95828763795777E8
   },
   {
    "level": 2,
    "resolution": 39135.7584820001,
    "scale": 1.47914381897889E8
   },
   {
    "level": 3,
    "resolution": 19567.8792409999,
    "scale": 7.3957190948944E7
   },
   {
    "level": 4,
    "resolution": 9783.93962049996,
    "scale": 3.6978595474472E7
   },
   {
    "level": 5,
    "resolution": 4891.96981024998,
    "scale": 1.8489297737236E7
   },
   {
    "level": 6,
    "resolution": 2445.98490512499,
    "scale": 9244648.868618
   },
   {
    "level": 7,
    "resolution": 1222.99245256249,
    "scale": 4622324.434309
   },
   {
    "level": 8,
    "resolution": 611.49622628138,
    "scale": 2311162.217155
   },
   {
    "level": 9,
    "resolution": 305.748113140558,
    "scale": 1155581.108577
   },
   {
    "level": 10,
    "resolution": 152.874056570411,
    "scale": 577790.554289
   },
   {
    "level": 11,
    "resolution": 76.4370282850732,
    "scale": 288895.277144
   },
   {
    "level": 12,
    "resolution": 38.2185141425366,
    "scale": 144447.638572
   },
   {
    "level": 13,
    "resolution": 19.1092570712683,
    "scale": 72223.819286
   },
   {
    "level": 14,
    "resolution": 9.55462853563415,
    "scale": 36111.909643
   },
   {
    "level": 15,
    "resolution": 4.77731426794937,
    "scale": 18055.954822
   },
   {
    "level": 16,
    "resolution": 2.38865713397468,
    "scale": 9027.977411
   },
   {
    "level": 17,
    "resolution": 1.19432856685505,
    "scale": 4513.988705
   },
   {
    "level": 18,
    "resolution": 0.597164283559817,
    "scale": 2256.994353
   },
   {
    "level": 19,
    "resolution": 0.298582141647617,
    "scale": 1128.497176
   }
  ]
 },
 "initialExtent": {
  "xmin": -953207.5890641487,
  "ymin": 7481768.67546411,
  "xmax": 142467.6299666549,
  "ymax": 8171671.164538265,
  "spatialReference": {
   "cs": "pcs",
   "wkid": 102100
  }
 },
 "fullExtent": {
  "xmin": -614386.5557517246,
  "ymin": 7289570.536276593,
  "xmax": -195644.05116992688,
  "ymax": 8116267.661367698,
  "spatialReference": {
   "cs": "pcs",
   "wkid": 102100
  }
 },
 "minScale": 4000000,
 "maxScale": 4000,
 "minLOD": 8,
 "maxLOD": 17,
 "units": "esriMeters",
 "supportedImageFormatTypes": "PNG32,PNG24,PNG,JPG,DIB,TIFF,EMF,PS,PDF,GIF,SVG,SVGZ,BMP",
 "documentInfo": {
  "Title": "",
  "Author": "",
  "Comments": "The classification of land for agricultural purposes in Scotland is, in the general sense, as old as farming itself but the first national surveys were the Land Utilisation Survey directed by Sir Dudley Stamp during the late thirties and the classification of arable land carried out by the staff of the Department of Agriculture and Fisheries for Scotland in the forties. Both, however, were based largely on observation of the land use then current. In the mid-sixties interpretations of soil survey maps, laying more stress on the properties of land and its potential for agriculture, were developed at the Macaulay Institute for Soil Research, Aberdeen. A standard system of Land Use Capability Classification, applied by the Soil Surveys of Scotland, and of England and Wales was published in 1969 (Bibby and Mackney).\nIn 1973 following a recommendation in the White Paper 'Land Resource Use in Scotland: The Government's Observations on the Report of the Select Committee on Scottish Affairs', a Standing Committee on Rural Land Use was established. One of the first subjects considered by the Committee was land use capability classification and the decision was reached that a published land classification was desirable and that a review should be carried out to establish the one most suitable to Scottish requirements. The Chief Agricultural Officer of the Department of Agriculture and Fisheries, Mr C. Mackay, was\nappointed chairman of a working party and in subsequent reports (1975 and 1977) it was concluded that the future direction of land classification and mapping in Scotland should be based on the system developed by the Macaulay Institute with some modifications and additions. The reports, which were accepted by the Standing Committee, encouraged continued co-operation with England and Wales through the Agricultural Development and Advisory Service Closed Conference of Advisory Soil Scientists Land Capability Classification Working Party. This had been established in 1974 and included representatives of the Department and Colleges of Agriculture in Scotland and the Macaulay Institute.\nFrom 1974 to 1981 the discussions of this committee were of the utmost value in developing the rationale and guidelines for land classification now presented. Under the able chairmanship of Mr B. Wilkinson, the following members contributed: J. S. Bibby, J. C. Clark, H. A. Douglas, P. E. Francis, G. Goodlass, D. Hewgill, F. M. B. Houston, A. D. Hughes, D. Mackney, M. J. Silverwood. R. B. Speirs, R. W. Swain, J. F. B. Tew, A. J. Thomasson and R. J. Unwin. Organisations represented included the Agricultural Science and Land and Water Services of the Ministry of Agriculture, the Department of Agriculture for Scotland, the Scottish Colleges of Agriculture, the Meteorological Office (Agrometeorological Branch) and the Soil Surveys of Scotland, and of England and Wales.\nThe scientific discussions held within the Working Party plus the field excursions in Scotland, England and Wales in order to study the practical application of the system in various land classification exercises contributed significantly to the system's development and final refined version.\nIn 1980 with progress on a 1:250 000 scale, soil and land capability programme well forward in Scotland, it became necessary to produce firm proposals to allow the work to proceed. The land classification for agriculture now presented owes much to the original United States Department of Agriculture Land Capability Classification (Klingebiel and Montgomery 1961), to the Land Use Capability Classification (Bibby and Mackney 1969) and to the Survey staff who have helped to improve that classification, to the various working parties and, finally, to individual discussions, contributions from Mr E. L. Birse of the Macaulay Institute being particularly helpful. The assistance of such a wide range of authorities and people is gratefully acknowledged. Nevertheless, the responsibility for errors, omissions and short-comings rest entirely with the authors.\nThe Land Capability Classification for Agriculture incorporates significant advances in methods of assessment and is the basis of the interpretative maps produced by the Soil Survey Department of the Macaulay Institute for Soil Research, Aberdeen.\nOwnership of this data set was passed to the James Hutton Institute on 1st April 2011. ",
  "Subject": "The Land Capability Classification for Agriculture has as its objective the presentation of detailed information on soil, climate and relief in a form which will be of value to land use planners, agricultural advisers, farmers and others.",
  "Category": "",
  "AntialiasingMode": "None",
  "TextAntialiasingMode": "Force",
  "Keywords": "agriculture"
 },
 "capabilities": "Map,Query,Data",
 "supportedQueryFormats": "JSON, geoJSON",
 "exportTilesAllowed": false,
 "referenceScale": 0,
 "datumTransformations": [
  {
   "geoTransforms": [
    {
     "wkid": 5338,
     "latestWkid": 5338,
     "transformForward": true,
     "name": "OSGB_1936_To_ETRS_1989_1"
    },
    {
     "wkid": 1149,
     "latestWkid": 1149,
     "transformForward": true,
     "name": "ETRS_1989_To_WGS_1984"
    }
   ]
  },
  {
   "geoTransforms": [
    {
     "wkid": 1149,
     "latestWkid": 1149,
     "transformForward": false,
     "name": "ETRS_1989_To_WGS_1984"
    },
    {
     "wkid": 5338,
     "latestWkid": 5338,
     "transformForward": false,
     "name": "OSGB_1936_To_ETRS_1989_1"
    }
   ]
  }
 ],
 "supportsDatumTransformation": true,
 "maxRecordCount": 1000,
 "maxImageHeight": 4096,
 "maxImageWidth": 4096,
 "supportedExtensions": "WMSServer"
}
