<?xml version="1.0" encoding="UTF-8"?>
<Capabilities xmlns="http://www.opengis.net/wmts/1.0"
xmlns:ows="http://www.opengis.net/ows/1.1"
xmlns:xlink="http://www.w3.org/1999/xlink"
xmlns:xsi="http://www.w3.org/2001/XMLSchema-instance"
xmlns:gml="http://www.opengis.net/gml"
xsi:schemaLocation="http://www.opengis.net/wmts/1.0 http://schemas.opengis.net/wmts/1.0/wmtsGetCapabilities_response.xsd"
version="1.0.0">
<!-- Service Identification --> <ows:ServiceIdentification>
<ows:Title>Hutton_NSIS</ows:Title>
<ows:ServiceType>OGC WMTS</ows:ServiceType>
<ows:ServiceTypeVersion>1.0.0</ows:ServiceTypeVersion>
</ows:ServiceIdentification> <!-- Operations Metadata --> <ows:OperationsMetadata>
<ows:Operation name="GetCapabilities">
<ows:DCP>
<ows:HTTP>
<ows:Get xlink:href="http://druid.hutton.ac.uk/arcgis/rest/services/Hutton_NSIS/MapServer/WMTS/1.0.0/WMTSCapabilities.xml">
<ows:Constraint name="GetEncoding">
<ows:AllowedValues>
<ows:Value>RESTful</ows:Value>
</ows:AllowedValues>
</ows:Constraint>
</ows:Get>
<!-- add KVP binding in 10.1 -->
<ows:Get xlink:href="http://druid.hutton.ac.uk/arcgis/rest/services/Hutton_NSIS/MapServer/WMTS?">
<ows:Constraint name="GetEncoding">
<ows:AllowedValues>
<ows:Value>KVP</ows:Value>
</ows:AllowedValues>
</ows:Constraint>
</ows:Get>
</ows:HTTP>
</ows:DCP>
</ows:Operation>
<ows:Operation name="GetTile">
<ows:DCP>
<ows:HTTP>
<ows:Get xlink:href="http://druid.hutton.ac.uk/arcgis/rest/services/Hutton_NSIS/MapServer/WMTS/tile/1.0.0/">
<ows:Constraint name="GetEncoding">
<ows:AllowedValues>
<ows:Value>RESTful</ows:Value>
</ows:AllowedValues>
</ows:Constraint>
</ows:Get>
<ows:Get xlink:href="http://druid.hutton.ac.uk/arcgis/rest/services/Hutton_NSIS/MapServer/WMTS?">
<ows:Constraint name="GetEncoding">
<ows:AllowedValues>
<ows:Value>KVP</ows:Value>
</ows:AllowedValues>
</ows:Constraint>
</ows:Get>
</ows:HTTP>
</ows:DCP>
</ows:Operation>
</ows:OperationsMetadata> <Contents>
<!--Layer--> <Layer>
<ows:Title>Hutton_NSIS</ows:Title> <ows:Identifier>Hutton_NSIS</ows:Identifier>
<ows:BoundingBox crs="urn:ogc:def:crs:EPSG::27700">
<ows:LowerCorner>70000.0 540000.0000000019</ows:LowerCorner>
<ows:UpperCorner>460000.00000000093 1200000.0000000019</ows:UpperCorner>
</ows:BoundingBox> <ows:WGS84BoundingBox crs="urn:ogc:def:crs:OGC:2:84">
<ows:LowerCorner>-8.023394974336869 54.64676461851578</ows:LowerCorner>
<ows:UpperCorner>-0.9035634978626454 60.68321366181635</ows:UpperCorner>
</ows:WGS84BoundingBox>
<Style isDefault="true">
<ows:Title>Default Style</ows:Title>
<ows:Identifier>default</ows:Identifier>
</Style>
<Format>image/png</Format>
<TileMatrixSetLink>
<TileMatrixSet>default028mm</TileMatrixSet>
</TileMatrixSetLink>
<ResourceURL format="image/png" resourceType="tile" template="http://druid.hutton.ac.uk/arcgis/rest/services/Hutton_NSIS/MapServer/WMTS/tile/1.0.0/Hutton_NSIS/{Style}/{TileMatrixSet}/{TileMatrix}/{TileRow}/{TileCol}.png" />
</Layer> <!--TileMatrixSet-->
<TileMatrixSet>
<ows:Title>TileMatrix using 0.28mm</ows:Title>
<ows:Abstract>The tile matrix set that has scale values calculated based on the dpi defined by OGC specification (dpi assumes 0.28mm as the physical distance of a pixel).</ows:Abstract> <ows:Identifier>default028mm</ows:Identifier>
<ows:SupportedCRS>urn:ogc:def:crs:EPSG::27700</ows:SupportedCRS>
<TileMatrix>
<ows:Identifier>0</ows:Identifier>
<ScaleDenominator>3779769.4643003587</ScaleDenominator>
<TopLeftCorner>-5220400.0 4470200.0</TopLeftCorner> <TileWidth>256</TileWidth> <TileHeight>256</TileHeight>
<MatrixWidth>21</MatrixWidth> <MatrixHeight>15</MatrixHeight>
</TileMatrix>
<TileMatrix>
<ows:Identifier>1</ows:Identifier>
<ScaleDenominator>1889884.7321501793</ScaleDenominator>
<TopLeftCorner>-5220400.0 4470200.0</TopLeftCorner> <TileWidth>256</TileWidth> <TileHeight>256</TileHeight>
<MatrixWidth>42</MatrixWidth> <MatrixHeight>30</MatrixHeight>
</TileMatrix>
<TileMatrix>
<ows:Identifier>2</ows:Identifier>
<ScaleDenominator>944942.3660750897</ScaleDenominator>
<TopLeftCorner>-5220400.0 4470200.0</TopLeftCorner> <TileWidth>256</TileWidth> <TileHeight>256</TileHeight>
<MatrixWidth>84</MatrixWidth> <MatrixHeight>59</MatrixHeight>
</TileMatrix>
<TileMatrix>
<ows:Identifier>3</ows:Identifier>
<ScaleDenominator>472471.18303754483</ScaleDenominator>
<TopLeftCorner>-5220400.0 4470200.0</TopLeftCorner> <TileWidth>256</TileWidth> <TileHeight>256</TileHeight>
<MatrixWidth>168</MatrixWidth> <MatrixHeight>117</MatrixHeight>
</TileMatrix>
<TileMatrix>
<ows:Identifier>4</ows:Identifier>
<ScaleDenominator>236235.59151877242</ScaleDenominator>
<TopLeftCorner>-5220400.0 4470200.0</TopLeftCorner> <TileWidth>256</TileWidth> <TileHeight>256</TileHeight>
<MatrixWidth>336</MatrixWidth> <MatrixHeight>233</MatrixHeight>
</TileMatrix>
<TileMatrix>
<ows:Identifier>5</ows:Identifier>
<ScaleDenominator>118117.79575938621</ScaleDenominator>
<TopLeftCorner>-5220400.0 4470200.0</TopLeftCorner> <TileWidth>256</TileWidth> <TileHeight>256</TileHeight>
<MatrixWidth>671</MatrixWidth> <MatrixHeight>465</MatrixHeight>
</TileMatrix>
<TileMatrix>
<ows:Identifier>6</ows:Identifier>
<ScaleDenominator>60476.31142880573</ScaleDenominator>
<TopLeftCorner>-5220400.0 4470200.0</TopLeftCorner> <TileWidth>256</TileWidth> <TileHeight>256</TileHeight>
<MatrixWidth>1311</MatrixWidth> <MatrixHeight>907</MatrixHeight>
</TileMatrix>
<TileMatrix>
<ows:Identifier>7</ows:Identifier>
<ScaleDenominator>30238.155714402867</ScaleDenominator>
<TopLeftCorner>-5220400.0 4470200.0</TopLeftCorner> <TileWidth>256</TileWidth> <TileHeight>256</TileHeight>
<MatrixWidth>2621</MatrixWidth> <MatrixHeight>1814</MatrixHeight>
</TileMatrix>
</TileMatrixSet>
</Contents>
<ServiceMetadataURL xlink:href="http://druid.hutton.ac.uk/arcgis/rest/services/Hutton_NSIS/MapServer/WMTS/1.0.0/WMTSCapabilities.xml" /> </Capabilities>
