{
 "currentVersion": 10.81,
 "serviceDescription": "Agmet/UKagmets",
 "name": "Agmet/UKagmets",
 "description": "",
 "extent": {
  "xmin": -500,
  "ymin": 7500,
  "xmax": 656500,
  "ymax": 1218500,
  "spatialReference": {
   "wkid": 27700,
   "latestWkid": 27700
  }
 },
 "initialExtent": {
  "xmin": -500,
  "ymin": 7500,
  "xmax": 656500,
  "ymax": 1218500,
  "spatialReference": {
   "wkid": 27700,
   "latestWkid": 27700
  }
 },
 "fullExtent": {
  "xmin": -500,
  "ymin": 7500,
  "xmax": 656500,
  "ymax": 1218500,
  "spatialReference": {
   "wkid": 27700,
   "latestWkid": 27700
  }
 },
 "pixelSizeX": 1000,
 "pixelSizeY": 1000,
 "datasetFormat": "AMD",
 "uncompressedSize": 6365016,
 "blockWidth": 2048,
 "blockHeight": 256,
 "compressionType": "None",
 "bandNames": [
  "Band_1"
 ],
 "allowCopy": true,
 "allowAnalysis": true,
 "bandCount": 1,
 "pixelType": "F64",
 "minPixelSize": 0,
 "maxPixelSize": 0,
 "copyrightText": "",
 "serviceDataType": "esriImageServiceDataTypeScientific",
 "serviceSourceType": "esriImageServiceSourceTypeMosaicDataset",
 "minValues": [
  0
 ],
 "maxValues": [
  1446.700000000001
 ],
 "meanValues": [
  92.45554268744317
 ],
 "stdvValues": [
  98.1586543816502
 ],
 "objectIdField": "OBJECTID",
 "fields": [
  {
   "name": "OBJECTID",
   "type": "esriFieldTypeOID",
   "alias": "OBJECTID",
   "domain": null
  },
  {
   "name": "Shape",
   "type": "esriFieldTypeGeometry",
   "alias": "Shape",
   "domain": null
  },
  {
   "name": "Name",
   "type": "esriFieldTypeString",
   "alias": "Name",
   "domain": null,
   "length": 200
  },
  {
   "name": "MinPS",
   "type": "esriFieldTypeDouble",
   "alias": "MinPS",
   "domain": null
  },
  {
   "name": "MaxPS",
   "type": "esriFieldTypeDouble",
   "alias": "MaxPS",
   "domain": null
  },
  {
   "name": "LowPS",
   "type": "esriFieldTypeDouble",
   "alias": "LowPS",
   "domain": null
  },
  {
   "name": "HighPS",
   "type": "esriFieldTypeDouble",
   "alias": "HighPS",
   "domain": null
  },
  {
   "name": "Category",
   "type": "esriFieldTypeInteger",
   "alias": "Category",
   "domain": {
    "type": "codedValue",
    "name": "MosaicCatalogItemCategoryDomain",
    "description": "Catalog item categories.",
    "codedValues": [
     {
      "name": "Unknown",
      "code": 0
     },
     {
      "name": "Primary",
      "code": 1
     },
     {
      "name": "Overview",
      "code": 2
     },
     {
      "name": "Unprocessed Overview",
      "code": 3
     },
     {
      "name": "Partial Overview",
      "code": 4
     },
     {
      "name": "Inactive",
      "code": 5
     },
     {
      "name": "Uploaded",
      "code": 253
     },
     {
      "name": "Incomplete",
      "code": 254
     },
     {
      "name": "Custom",
      "code": 255
     }
    ],
    "mergePolicy": "esriMPTDefaultValue",
    "splitPolicy": "esriSPTDefaultValue"
   }
  },
  {
   "name": "Tag",
   "type": "esriFieldTypeString",
   "alias": "Tag",
   "domain": null,
   "length": 100
  },
  {
   "name": "GroupName",
   "type": "esriFieldTypeString",
   "alias": "GroupName",
   "domain": null,
   "length": 100
  },
  {
   "name": "ProductName",
   "type": "esriFieldTypeString",
   "alias": "ProductName",
   "domain": null,
   "length": 100
  },
  {
   "name": "CenterX",
   "type": "esriFieldTypeDouble",
   "alias": "CenterX",
   "domain": null
  },
  {
   "name": "CenterY",
   "type": "esriFieldTypeDouble",
   "alias": "CenterY",
   "domain": null
  },
  {
   "name": "ZOrder",
   "type": "esriFieldTypeInteger",
   "alias": "ZOrder",
   "domain": null
  },
  {
   "name": "Variable",
   "type": "esriFieldTypeString",
   "alias": "Variable",
   "domain": null,
   "length": 50
  },
  {
   "name": "Dimensions",
   "type": "esriFieldTypeString",
   "alias": "Dimensions",
   "domain": null,
   "length": 50
  },
  {
   "name": "Year",
   "type": "esriFieldTypeSmallInteger",
   "alias": "Year",
   "domain": null
  },
  {
   "name": "Shape_Length",
   "type": "esriFieldTypeDouble",
   "alias": "Shape_Length",
   "domain": null
  },
  {
   "name": "Shape_Area",
   "type": "esriFieldTypeDouble",
   "alias": "Shape_Area",
   "domain": null
  }
 ],
 "capabilities": "Catalog,Image,Metadata",
 "defaultMosaicMethod": "None",
 "allowedMosaicMethods": "None,NorthWest,Center,LockRaster,ByAttribute,Nadir,Viewpoint,Seamline",
 "mosaicOperator": "First",
 "maxDownloadSizeLimit": 2048,
 "defaultCompressionQuality": 75,
 "defaultResamplingMethod": "Bilinear",
 "maxImageHeight": 4100,
 "maxImageWidth": 15000,
 "maxRecordCount": 1000,
 "maxDownloadImageCount": 20,
 "maxMosaicImageCount": 20,
 "allowRasterFunction": true,
 "rasterFunctionInfos": [
  {
   "name": "None",
   "description": "Make a Raster or Raster Dataset into a Function Raster Dataset.",
   "help": ""
  },
  {
   "name": "end_growingseason",
   "description": "A raster function template.",
   "help": ""
  },
  {
   "name": "airfrost_count",
   "description": "A raster function template.",
   "help": ""
  },
  {
   "name": "end_growingseason",
   "description": "A raster function template.",
   "help": ""
  },
  {
   "name": "dry_count",
   "description": "A raster function template.",
   "help": ""
  },
  {
   "name": "dry_spell_n",
   "description": "A raster function template.",
   "help": ""
  },
  {
   "name": "airfrost_count",
   "description": "A raster function template.",
   "help": ""
  },
  {
   "name": "first_airfrost_doy",
   "description": "A raster function template.",
   "help": ""
  },
  {
   "name": "first_grassfrost_doy",
   "description": "A raster function template.",
   "help": ""
  },
  {
   "name": "grassfrost_count",
   "description": "A raster function template.",
   "help": ""
  },
  {
   "name": "growing_degreedays",
   "description": "A raster function template.",
   "help": ""
  },
  {
   "name": "growing_season",
   "description": "A raster function template.",
   "help": ""
  },
  {
   "name": "growseason_length",
   "description": "A raster function template.",
   "help": ""
  },
  {
   "name": "growseason_range",
   "description": "A raster function template.",
   "help": ""
  },
  {
   "name": "heating_degreedays",
   "description": "A raster function template.",
   "help": ""
  },
  {
   "name": "heatwave_n",
   "description": "A raster function template.",
   "help": ""
  },
  {
   "name": "last_airfrost_doy",
   "description": "A raster function template.",
   "help": ""
  },
  {
   "name": "last_grassfrost_doy",
   "description": "A raster function template.",
   "help": ""
  },
  {
   "name": "max_anntemp",
   "description": "A raster function template.",
   "help": ""
  },
  {
   "name": "max_aprtemp",
   "description": "A raster function template.",
   "help": ""
  },
  {
   "name": "max_augtemp",
   "description": "A raster function template.",
   "help": ""
  },
  {
   "name": "max_dectemp",
   "description": "A raster function template.",
   "help": ""
  },
  {
   "name": "max_febtemp",
   "description": "A raster function template.",
   "help": ""
  },
  {
   "name": "max_jantemp",
   "description": "A raster function template.",
   "help": ""
  },
  {
   "name": "max_jultemp",
   "description": "A raster function template.",
   "help": ""
  },
  {
   "name": "max_juntemp",
   "description": "A raster function template.",
   "help": ""
  },
  {
   "name": "max_martemp",
   "description": "A raster function template.",
   "help": ""
  },
  {
   "name": "max_maytemp",
   "description": "A raster function template.",
   "help": ""
  },
  {
   "name": "max_novtemp",
   "description": "A raster function template.",
   "help": ""
  },
  {
   "name": "max_octtemp",
   "description": "A raster function template.",
   "help": ""
  },
  {
   "name": "max_septemp",
   "description": "A raster function template.",
   "help": ""
  },
  {
   "name": "min_anntemp",
   "description": "A raster function template.",
   "help": ""
  },
  {
   "name": "min_aprtemp",
   "description": "A raster function template.",
   "help": ""
  },
  {
   "name": "min_augtemp",
   "description": "A raster function template.",
   "help": ""
  },
  {
   "name": "min_dectemp",
   "description": "A raster function template.",
   "help": ""
  },
  {
   "name": "min_febtemp",
   "description": "A raster function template.",
   "help": ""
  },
  {
   "name": "min_jantemp",
   "description": "A raster function template.",
   "help": ""
  },
  {
   "name": "min_jultemp",
   "description": "A raster function template.",
   "help": ""
  },
  {
   "name": "min_juntemp",
   "description": "A raster function template.",
   "help": ""
  },
  {
   "name": "min_martemp",
   "description": "A raster function template.",
   "help": ""
  },
  {
   "name": "min_maytemp",
   "description": "A raster function template.",
   "help": ""
  },
  {
   "name": "min_novtemp",
   "description": "A raster function template.",
   "help": ""
  },
  {
   "name": "min_octtemp",
   "description": "A raster function template.",
   "help": ""
  },
  {
   "name": "min_septemp",
   "description": "A raster function template.",
   "help": ""
  },
  {
   "name": "p_heterogeneity",
   "description": "A raster function template.",
   "help": ""
  },
  {
   "name": "p_intensity",
   "description": "A raster function template.",
   "help": ""
  },
  {
   "name": "p_seasonality",
   "description": "A raster function template.",
   "help": ""
  },
  {
   "name": "personheatstress_count",
   "description": "A raster function template.",
   "help": ""
  },
  {
   "name": "plantheatstress_count",
   "description": "A raster function template.",
   "help": ""
  },
  {
   "name": "rfall_annualtotal",
   "description": "A raster function template.",
   "help": ""
  },
  {
   "name": "rfall_aprtotal",
   "description": "A raster function template.",
   "help": ""
  },
  {
   "name": "rfall_augtotal",
   "description": "A raster function template.",
   "help": ""
  },
  {
   "name": "rfall_autumntotal",
   "description": "A raster function template.",
   "help": ""
  },
  {
   "name": "rfall_dectotal",
   "description": "A raster function template.",
   "help": ""
  },
  {
   "name": "rfall_febtotal",
   "description": "A raster function template.",
   "help": ""
  },
  {
   "name": "rfall_jantotal",
   "description": "A raster function template.",
   "help": ""
  },
  {
   "name": "rfall_jultotal",
   "description": "A raster function template.",
   "help": ""
  },
  {
   "name": "rfall_juntotal",
   "description": "A raster function template.",
   "help": ""
  },
  {
   "name": "rfall_martotal",
   "description": "A raster function template.",
   "help": ""
  },
  {
   "name": "rfall_maytotal",
   "description": "A raster function template.",
   "help": ""
  },
  {
   "name": "rfall_novtotal",
   "description": "A raster function template.",
   "help": ""
  },
  {
   "name": "rfall_octtotal",
   "description": "A raster function template.",
   "help": ""
  },
  {
   "name": "rfall_septotal",
   "description": "A raster function template.",
   "help": ""
  },
  {
   "name": "rfall_springtotal",
   "description": "A raster function template.",
   "help": ""
  },
  {
   "name": "rfall_summertotal",
   "description": "A raster function template.",
   "help": ""
  },
  {
   "name": "rfall_wintertotal",
   "description": "A raster function template.",
   "help": ""
  },
  {
   "name": "start_fieldops_doy",
   "description": "A raster function template.",
   "help": ""
  },
  {
   "name": "start_grow_doy",
   "description": "A raster function template.",
   "help": ""
  },
  {
   "name": "tempgrowingperiod_length",
   "description": "A raster function template.",
   "help": ""
  },
  {
   "name": "thermaltime_sum",
   "description": "A raster function template.",
   "help": ""
  },
  {
   "name": "wet_count",
   "description": "A raster function template.",
   "help": ""
  },
  {
   "name": "wet_spell_n",
   "description": "A raster function template.",
   "help": ""
  },
  {
   "name": "wettestweek_doy",
   "description": "A raster function template.",
   "help": ""
  },
  {
   "name": "wettestweek_mm",
   "description": "A raster function template.",
   "help": ""
  },
  {
   "name": "accumulatedfrost_degreedays",
   "description": "A raster function template.",
   "help": ""
  },
  {
   "name": "cold_spell_n",
   "description": "A raster function template.",
   "help": ""
  }
 ],
 "rasterTypeInfos": [
  {
   "name": "Raster Dataset",
   "description": "Supports all ArcGIS Raster Datasets",
   "help": ""
  }
 ],
 "mensurationCapabilities": "None",
 "hasHistograms": true,
 "hasColormap": false,
 "hasRasterAttributeTable": false,
 "minScale": 0,
 "maxScale": 0,
 "exportTilesAllowed": false,
 "hasMultidimensions": true,
 "supportsStatistics": true,
 "supportsAdvancedQueries": true,
 "editFieldsInfo": null,
 "ownershipBasedAccessControlForRasters": null,
 "allowComputeTiePoints": false,
 "useStandardizedQueries": true,
 "advancedQueryCapabilities": {
  "useStandardizedQueries": true,
  "supportsStatistics": true,
  "supportsOrderBy": true,
  "supportsDistinct": true,
  "supportsPagination": true
 },
 "spatialReference": {
  "wkid": 27700,
  "latestWkid": 27700
 }
}
